BEGIN:VCALENDAR
VERSION:2.0
PRODID:-//https://www.sandiegofamily.com///NONSGML kigkonsult.se iCalcreator 2.10.15//
METHOD:PUBLISH
BEGIN:VEVENT
UID:20260423T185702UTC-93248dVs66@https://www.sandiegofamily.com/
DTSTAMP:20260423T185702Z
DESCRIPTION: https://www.sandiegofamily.com/things-to-do/events-calendar/ev
 ent/31504-all-that-jazz-lightshow-spectacular
DTSTART;VALUE=DATE:20231125
LOCATION:Hotel del Coronado  (1500 Orange Ave.\, Coronado)
SUMMARY:“All That Jazz” Lightshow Spectacular
URL:https://www.sandiegofamily.com/things-to-do/events-calendar/event/31504
 -all-that-jazz-lightshow-spectacular
END:VEVENT
END:VCALENDAR
