BEGIN:VCALENDAR
VERSION:2.0
PRODID:-//https://www.sandiegofamily.com///NONSGML kigkonsult.se iCalcreator 2.10.15//
METHOD:PUBLISH
BEGIN:VEVENT
UID:20260424T020301UTC-1929396ShK@https://www.sandiegofamily.com/
DTSTAMP:20260424T020301Z
DESCRIPTION: https://www.sandiegofamily.com/things-to-do/events-calendar/ev
 ent/31396-skating-by-the-sea
DTSTART;VALUE=DATE:20231230
LOCATION:Hotel del Coronado  (1500 Orange Ave.\, Coronado)
SUMMARY:Skating by the Sea
URL:https://www.sandiegofamily.com/things-to-do/events-calendar/event/31396
 -skating-by-the-sea
END:VEVENT
END:VCALENDAR
