BEGIN:VCALENDAR
VERSION:2.0
PRODID:-//https://www.sandiegofamily.com///NONSGML kigkonsult.se iCalcreator 2.10.15//
METHOD:PUBLISH
BEGIN:VEVENT
UID:20260424T223229UTC-4117aklvld@https://www.sandiegofamily.com/
DTSTAMP:20260424T223229Z
DESCRIPTION: https://www.sandiegofamily.com/things-to-do/events-calendar/ev
 ent/30648-trunk-or-treat
DTSTART:20231026T000000Z
DTEND:20231026T023000Z
LOCATION:Downtown El Cajon (201 E Main St\, El Cajon\, CA 92020\, USA)
SUMMARY:Trunk-or-Treat
URL:https://www.sandiegofamily.com/things-to-do/events-calendar/event/30648
 -trunk-or-treat
END:VEVENT
END:VCALENDAR
