BEGIN:VCALENDAR
VERSION:2.0
PRODID:-//https://www.sandiegofamily.com///NONSGML kigkonsult.se iCalcreator 2.10.15//
METHOD:PUBLISH
BEGIN:VEVENT
UID:20260423T225717UTC-6104VKICur@https://www.sandiegofamily.com/
DTSTAMP:20260423T225717Z
DESCRIPTION: https://www.sandiegofamily.com/things-to-do/events-calendar/ev
 ent/30644-waterfront-park-pumpkin-patch
DTSTART:20231022T180000Z
DTEND:20231022T210000Z
LOCATION:Waterfront Park (1600 Pacific Hwy\, San Diego\, CA 92101\, USA)
SUMMARY:Waterfront Park Pumpkin Patch
URL:https://www.sandiegofamily.com/things-to-do/events-calendar/event/30644
 -waterfront-park-pumpkin-patch
END:VEVENT
END:VCALENDAR
