BEGIN:VCALENDAR
VERSION:2.0
PRODID:-//https://www.sandiegofamily.com///NONSGML kigkonsult.se iCalcreator 2.10.15//
METHOD:PUBLISH
BEGIN:VEVENT
UID:20260422T002756UTC-2081BoeCCC@https://www.sandiegofamily.com/
DTSTAMP:20260422T002756Z
DESCRIPTION: https://www.sandiegofamily.com/things-to-do/events-calendar/ev
 ent/30619-sleeping-beauty
DTSTART;VALUE=DATE:20231020
LOCATION:The Salvation Army Ray & Joan Kroc Corps Community Center (6845 Un
 iversity Ave\, San Diego\, CA 92115\, USA)
SUMMARY:“Sleeping Beauty.” 
URL:https://www.sandiegofamily.com/things-to-do/events-calendar/event/30619
 -sleeping-beauty
END:VEVENT
END:VCALENDAR
