BEGIN:VCALENDAR
VERSION:2.0
PRODID:-//https://www.sandiegofamily.com///NONSGML kigkonsult.se iCalcreator 2.10.15//
METHOD:PUBLISH
BEGIN:VEVENT
UID:20260420T124935UTC-9780md2vsP@https://www.sandiegofamily.com/
DTSTAMP:20260420T124935Z
DESCRIPTION: https://www.sandiegofamily.com/things-to-do/events-calendar/ev
 ent/30509-welcome-to-sleepy-hollow
DTSTART;VALUE=DATE:20231015
LOCATION:Oceanside\, CA ()
SUMMARY:“Welcome to Sleepy Hollow.”
URL:https://www.sandiegofamily.com/things-to-do/events-calendar/event/30509
 -welcome-to-sleepy-hollow
END:VEVENT
END:VCALENDAR
