BEGIN:VCALENDAR
VERSION:2.0
PRODID:-//https://www.sandiegofamily.com///NONSGML kigkonsult.se iCalcreator 2.10.15//
METHOD:PUBLISH
BEGIN:VEVENT
UID:20260420T235828UTC-2024nHabAW@https://www.sandiegofamily.com/
DTSTAMP:20260420T235828Z
DESCRIPTION: https://www.sandiegofamily.com/things-to-do/events-calendar/ev
 ent/30440-les-miserables
DTSTART;VALUE=DATE:20231013
LOCATION:San Diego Civic Theatre (1100 Third Ave\, San Diego\, CA 92101\, U
 SA)
SUMMARY:Les Miserables
URL:https://www.sandiegofamily.com/things-to-do/events-calendar/event/30440
 -les-miserables
END:VEVENT
END:VCALENDAR
