BEGIN:VCALENDAR
VERSION:2.0
PRODID:-//https://www.sandiegofamily.com///NONSGML kigkonsult.se iCalcreator 2.10.15//
METHOD:PUBLISH
BEGIN:VEVENT
UID:20260423T225818UTC-3151wORAOg@https://www.sandiegofamily.com/
DTSTAMP:20260423T225818Z
DESCRIPTION: https://www.sandiegofamily.com/things-to-do/events-calendar/ev
 ent/28328-savage-gardens
DTSTART;VALUE=DATE:20230801
LOCATION:San Diego Botanic Garden (230 Quail Gardens Dr\, Encinitas\, CA 92
 024\, USA)
SUMMARY:Savage Gardens
URL:https://www.sandiegofamily.com/things-to-do/events-calendar/event/28328
 -savage-gardens
END:VEVENT
END:VCALENDAR
