BEGIN:VCALENDAR
VERSION:2.0
PRODID:-//https://www.sandiegofamily.com///NONSGML kigkonsult.se iCalcreator 2.10.15//
METHOD:PUBLISH
BEGIN:VEVENT
UID:20260423T230726UTC-7428guVB4P@https://www.sandiegofamily.com/
DTSTAMP:20260423T230726Z
DESCRIPTION: https://www.sandiegofamily.com/things-to-do/events-calendar/ev
 ent/26662-cajon-classic-cruise
DTSTART;VALUE=DATE:20230802
LOCATION:El Cajon (1017 S Mollison Ave\, El Cajon\, CA 92020\, USA)
SUMMARY:Cajon Classic Cruise
URL:https://www.sandiegofamily.com/things-to-do/events-calendar/event/26662
 -cajon-classic-cruise
END:VEVENT
END:VCALENDAR
