BEGIN:VCALENDAR
VERSION:2.0
PRODID:-//https://www.sandiegofamily.com///NONSGML kigkonsult.se iCalcreator 2.10.15//
METHOD:PUBLISH
BEGIN:VEVENT
UID:20260421T235328UTC-1910jbDzAD@https://www.sandiegofamily.com/
DTSTAMP:20260421T235328Z
DESCRIPTION: https://www.sandiegofamily.com/things-to-do/events-calendar/ev
 ent/26249-san-marcos-spring-fling-street-festival
DTSTART:20230402T160000Z
DTEND:20230403T000000Z
LOCATION:San Marcos\, CA (3 Civic Center Dr\, San Marcos\, CA 92069\, USA)
SUMMARY:San Marcos Spring Fling & Street Festival
URL:https://www.sandiegofamily.com/things-to-do/events-calendar/event/26249
 -san-marcos-spring-fling-street-festival
END:VEVENT
END:VCALENDAR
