BEGIN:VCALENDAR
VERSION:2.0
PRODID:-//https://www.sandiegofamily.com///NONSGML kigkonsult.se iCalcreator 2.10.15//
METHOD:PUBLISH
BEGIN:VEVENT
UID:20260421T083547UTC-2814vNg3nI@https://www.sandiegofamily.com/
DTSTAMP:20260421T083547Z
DESCRIPTION: https://www.sandiegofamily.com/things-to-do/events-calendar/ev
 ent/26047-parks-after-dark-spring-egg-hunt
DTSTART:20230330T230000Z
DTEND:20230331T020000Z
LOCATION:San Diego\, CA ()
SUMMARY:Parks After Dark: Spring Egg Hunt
URL:https://www.sandiegofamily.com/things-to-do/events-calendar/event/26047
 -parks-after-dark-spring-egg-hunt
END:VEVENT
END:VCALENDAR
