BEGIN:VCALENDAR
VERSION:2.0
PRODID:-//https://www.sandiegofamily.com///NONSGML kigkonsult.se iCalcreator 2.10.15//
METHOD:PUBLISH
BEGIN:VEVENT
UID:20260423T034940UTC-4189RbLHUj@https://www.sandiegofamily.com/
DTSTAMP:20260423T034940Z
DESCRIPTION: https://www.sandiegofamily.com/things-to-do/events-calendar/ev
 ent/25557-flashback
DTSTART;VALUE=DATE:20230327
LOCATION:Fleet Science Center\, Balboa Park (1875 El Prado\, San Diego\, CA
  92101\, USA)
SUMMARY:Flashback
URL:https://www.sandiegofamily.com/things-to-do/events-calendar/event/25557
 -flashback
END:VEVENT
END:VCALENDAR
