BEGIN:VCALENDAR
VERSION:2.0
PRODID:-//https://www.sandiegofamily.com///NONSGML kigkonsult.se iCalcreator 2.10.15//
METHOD:PUBLISH
BEGIN:VEVENT
UID:20260421T041920UTC-7206p9LX1e@https://www.sandiegofamily.com/
DTSTAMP:20260421T041920Z
DESCRIPTION: https://www.sandiegofamily.com/things-to-do/events-calendar/ev
 ent/25350-the-outsiders
DTSTART;VALUE=DATE:20230323
LOCATION:La Jolla Playhouse (2910 La Jolla Village Dr\, La Jolla\, CA 92093
 \, USA)
SUMMARY:“The Outsiders.” 
URL:https://www.sandiegofamily.com/things-to-do/events-calendar/event/25350
 -the-outsiders
END:VEVENT
END:VCALENDAR
