BEGIN:VCALENDAR
VERSION:2.0
PRODID:-//https://www.sandiegofamily.com///NONSGML kigkonsult.se iCalcreator 2.10.15//
METHOD:PUBLISH
BEGIN:VEVENT
UID:20260423T202129UTC-4927f4gOVM@https://www.sandiegofamily.com/
DTSTAMP:20260423T202129Z
DESCRIPTION: https://www.sandiegofamily.com/things-to-do/events-calendar/ev
 ent/24726-noon-year-celebration
DTSTART:20221231T180000Z
DTEND:20221231T210000Z
LOCATION:Belmont Park (3146 Mission Blvd\, San Diego\, CA 92109\, USA)
SUMMARY:Noon Year Celebration
URL:https://www.sandiegofamily.com/things-to-do/events-calendar/event/24726
 -noon-year-celebration
END:VEVENT
END:VCALENDAR
