BEGIN:VCALENDAR
VERSION:2.0
PRODID:-//https://www.sandiegofamily.com///NONSGML kigkonsult.se iCalcreator 2.10.15//
METHOD:PUBLISH
BEGIN:VEVENT
UID:20260423T204146UTC-3225vrwuoZ@https://www.sandiegofamily.com/
DTSTAMP:20260423T204146Z
DESCRIPTION: https://www.sandiegofamily.com/things-to-do/events-calendar/ev
 ent/23657-at-first-light-light-show-spectacular
DTSTART;VALUE=DATE:20221223
LOCATION:Hotel del Coronado  (1500 Orange Ave.\, Coronado)
SUMMARY:“At First Light” Light Show Spectacular
URL:https://www.sandiegofamily.com/things-to-do/events-calendar/event/23657
 -at-first-light-light-show-spectacular
END:VEVENT
END:VCALENDAR
