BEGIN:VCALENDAR
VERSION:2.0
PRODID:-//https://www.sandiegofamily.com///NONSGML kigkonsult.se iCalcreator 2.10.15//
METHOD:PUBLISH
BEGIN:VEVENT
UID:20260423T213945UTC-2058WdCOGb@https://www.sandiegofamily.com/
DTSTAMP:20260423T213945Z
DESCRIPTION: https://www.sandiegofamily.com/things-to-do/events-calendar/ev
 ent/22549-jurassic-world-the-exhibition
DTSTART;VALUE=DATE:20230207
LOCATION:San Diego\, CA ()
SUMMARY:Jurassic World: The Exhibition
URL:https://www.sandiegofamily.com/things-to-do/events-calendar/event/22549
 -jurassic-world-the-exhibition
END:VEVENT
END:VCALENDAR
