BEGIN:VCALENDAR
VERSION:2.0
PRODID:-//https://www.sandiegofamily.com///NONSGML kigkonsult.se iCalcreator 2.10.15//
METHOD:PUBLISH
BEGIN:VEVENT
UID:20260424T002306UTC-1677GXZOkU@https://www.sandiegofamily.com/
DTSTAMP:20260424T002306Z
DESCRIPTION: https://www.sandiegofamily.com/things-to-do/events-calendar/ev
 ent/21467-san-diego-international-organ-festival
DTSTART;VALUE=DATE:20221017
LOCATION:Balboa Park (Balboa Park\, San Diego\, CA\, USA)
SUMMARY:San Diego International Organ Festival
URL:https://www.sandiegofamily.com/things-to-do/events-calendar/event/21467
 -san-diego-international-organ-festival
END:VEVENT
END:VCALENDAR
