BEGIN:VCALENDAR
VERSION:2.0
PRODID:-//https://www.sandiegofamily.com///NONSGML kigkonsult.se iCalcreator 2.10.15//
METHOD:PUBLISH
BEGIN:VEVENT
UID:20260421T122756UTC-82950DMI5z@https://www.sandiegofamily.com/
DTSTAMP:20260421T122756Z
DESCRIPTION: https://www.sandiegofamily.com/things-to-do/events-calendar/ev
 ent/21409-pupologie-cardiff-dog-days-of-summer
DTSTART:20220814T170000Z
DTEND:20220815T000000Z
LOCATION:Encinitas Community Park (425 Santa Fe Dr\, Encinitas\, CA 92024\,
  USA)
SUMMARY:Pupologie Cardiff Dog Days of Summer
URL:https://www.sandiegofamily.com/things-to-do/events-calendar/event/21409
 -pupologie-cardiff-dog-days-of-summer
END:VEVENT
END:VCALENDAR
