BEGIN:VCALENDAR
VERSION:2.0
PRODID:-//https://www.sandiegofamily.com///NONSGML kigkonsult.se iCalcreator 2.10.15//
METHOD:PUBLISH
BEGIN:VEVENT
UID:20260424T071423UTC-4170ofOuT3@https://www.sandiegofamily.com/
DTSTAMP:20260424T071423Z
DESCRIPTION: https://www.sandiegofamily.com/things-to-do/events-calendar/ev
 ent/21093-nighttime-zoo
DTSTART;VALUE=DATE:20220901
LOCATION:San Diego Zoo\, Balboa Park (2920 Zoo Dr\, San Diego\, CA 92101\, 
 USA)
SUMMARY:Nighttime Zoo
URL:https://www.sandiegofamily.com/things-to-do/events-calendar/event/21093
 -nighttime-zoo
END:VEVENT
END:VCALENDAR
