BEGIN:VCALENDAR
VERSION:2.0
PRODID:-//https://www.sandiegofamily.com///NONSGML kigkonsult.se iCalcreator 2.10.15//
METHOD:PUBLISH
BEGIN:VEVENT
UID:20260421T030533UTC-9052WVU7vV@https://www.sandiegofamily.com/
DTSTAMP:20260421T030533Z
DESCRIPTION: https://www.sandiegofamily.com/things-to-do/events-calendar/ev
 ent/20821-ignite-fireworks-at-seaworld
DTSTART;VALUE=DATE:20220702
LOCATION:SeaWorld San Diego (500 Sea World Dr\, San Diego\, CA 92109\, USA)
SUMMARY:Ignite Fireworks at SeaWorld
URL:https://www.sandiegofamily.com/things-to-do/events-calendar/event/20821
 -ignite-fireworks-at-seaworld
END:VEVENT
END:VCALENDAR
