BEGIN:VCALENDAR
VERSION:2.0
PRODID:-//https://www.sandiegofamily.com///NONSGML kigkonsult.se iCalcreator 2.10.15//
METHOD:PUBLISH
BEGIN:VEVENT
UID:20260420T111738UTC-4162upcVUT@https://www.sandiegofamily.com/
DTSTAMP:20260420T111738Z
DESCRIPTION: https://www.sandiegofamily.com/things-to-do/events-calendar/ev
 ent/20519-the-taming-of-the-shrew
DTSTART;VALUE=DATE:20220702
LOCATION:The Old Globe Theatre (1363 Old Globe Way\, San Diego\, CA 92101\,
  USA)
SUMMARY:“The Taming of the Shrew.”
URL:https://www.sandiegofamily.com/things-to-do/events-calendar/event/20519
 -the-taming-of-the-shrew
END:VEVENT
END:VCALENDAR
