BEGIN:VCALENDAR
VERSION:2.0
PRODID:-//https://www.sandiegofamily.com///NONSGML kigkonsult.se iCalcreator 2.10.15//
METHOD:PUBLISH
BEGIN:VEVENT
UID:20260421T142610UTC-8803vtc8fG@https://www.sandiegofamily.com/
DTSTAMP:20260421T142610Z
DESCRIPTION: https://www.sandiegofamily.com/things-to-do/events-calendar/ev
 ent/20146-vista-strawberry-festival
DTSTART:20220529T150000Z
DTEND:20220530T010000Z
LOCATION:Downtown Vista (Vista\, CA\, USA)
SUMMARY:Vista Strawberry Festival
URL:https://www.sandiegofamily.com/things-to-do/events-calendar/event/20146
 -vista-strawberry-festival
END:VEVENT
END:VCALENDAR
