BEGIN:VCALENDAR
VERSION:2.0
PRODID:-//https://www.sandiegofamily.com///NONSGML kigkonsult.se iCalcreator 2.10.15//
METHOD:PUBLISH
BEGIN:VEVENT
UID:20260424T081822UTC-90602W6Vmu@https://www.sandiegofamily.com/
DTSTAMP:20260424T081822Z
DESCRIPTION: https://www.sandiegofamily.com/things-to-do/events-calendar/ev
 ent/20120-coast-of-pacific-beach-restaurant-walk
DTSTART:20220525T230000Z
DTEND:20220526T040000Z
LOCATION:Pacific Beach (Ingraham St\, San Diego\, CA 92109\, USA)
SUMMARY:Coast of Pacific Beach Restaurant Walk
URL:https://www.sandiegofamily.com/things-to-do/events-calendar/event/20120
 -coast-of-pacific-beach-restaurant-walk
END:VEVENT
END:VCALENDAR
