BEGIN:VCALENDAR
VERSION:2.0
PRODID:-//https://www.sandiegofamily.com///NONSGML kigkonsult.se iCalcreator 2.10.15//
METHOD:PUBLISH
BEGIN:VEVENT
UID:20260421T154715UTC-5441gamOSj@https://www.sandiegofamily.com/
DTSTAMP:20260421T154715Z
DESCRIPTION: https://www.sandiegofamily.com/things-to-do/events-calendar/ev
 ent/20076-san-diego-family-fun-fest
DTSTART:20220515T170000Z
DTEND:20220515T200000Z
LOCATION:The Salvation Army Ray & Joan Kroc Corps Community Center (6845 Un
 iversity Ave\, San Diego\, CA 92115\, USA)
SUMMARY:San Diego Family Fun Fest
URL:https://www.sandiegofamily.com/things-to-do/events-calendar/event/20076
 -san-diego-family-fun-fest
END:VEVENT
END:VCALENDAR
