BEGIN:VCALENDAR
VERSION:2.0
PRODID:-//https://www.sandiegofamily.com///NONSGML kigkonsult.se iCalcreator 2.10.15//
METHOD:PUBLISH
BEGIN:VEVENT
UID:20260421T083655UTC-9309DgRXgE@https://www.sandiegofamily.com/
DTSTAMP:20260421T083655Z
DESCRIPTION: https://www.sandiegofamily.com/things-to-do/events-calendar/ev
 ent/20070-kids-bowl-free
DTSTART;VALUE=DATE:20220820
LOCATION:San Diego\, CA ()
SUMMARY:Kids Bowl FREE
URL:https://www.sandiegofamily.com/things-to-do/events-calendar/event/20070
 -kids-bowl-free
END:VEVENT
END:VCALENDAR
