BEGIN:VCALENDAR
VERSION:2.0
PRODID:-//https://www.sandiegofamily.com///NONSGML kigkonsult.se iCalcreator 2.10.15//
METHOD:PUBLISH
BEGIN:VEVENT
UID:20260422T102731UTC-1583EsUUDN@https://www.sandiegofamily.com/
DTSTAMP:20260422T102731Z
DESCRIPTION: https://www.sandiegofamily.com/things-to-do/events-calendar/ev
 ent/19756-lego-dinosaurs
DTSTART;VALUE=DATE:20220525
LOCATION:LEGOLAND California Resort (1 Legoland Dr\, Carlsbad\, CA 92008\, 
 USA)
SUMMARY:LEGO Dinosaurs
URL:https://www.sandiegofamily.com/things-to-do/events-calendar/event/19756
 -lego-dinosaurs
END:VEVENT
END:VCALENDAR
