BEGIN:VCALENDAR
VERSION:2.0
PRODID:-//https://www.sandiegofamily.com///NONSGML kigkonsult.se iCalcreator 2.10.15//
METHOD:PUBLISH
BEGIN:VEVENT
UID:20260421T024630UTC-4491EhcGNE@https://www.sandiegofamily.com/
DTSTAMP:20260421T024630Z
DESCRIPTION: https://www.sandiegofamily.com/things-to-do/events-calendar/ev
 ent/19713-wildlife-explorers-basecamp
DTSTART;VALUE=DATE:20220524
LOCATION:San Diego Zoo\, Balboa Park (2920 Zoo Dr\, San Diego\, CA 92101\, 
 USA)
SUMMARY:Wildlife Explorers Basecamp
URL:https://www.sandiegofamily.com/things-to-do/events-calendar/event/19713
 -wildlife-explorers-basecamp
END:VEVENT
END:VCALENDAR
