BEGIN:VCALENDAR
VERSION:2.0
PRODID:-//https://www.sandiegofamily.com///NONSGML kigkonsult.se iCalcreator 2.10.15//
METHOD:PUBLISH
BEGIN:VEVENT
UID:20260425T183024UTC-0885VRzIgN@https://www.sandiegofamily.com/
DTSTAMP:20260425T183024Z
DESCRIPTION: https://www.sandiegofamily.com/things-to-do/events-calendar/ev
 ent/19461-bob-fosses-dancin
DTSTART;VALUE=DATE:20220529
LOCATION:The Old Globe Theatre (1363 Old Globe Way\, San Diego\, CA 92101\,
  USA)
SUMMARY:Bob Fosse’s Dancin’
URL:https://www.sandiegofamily.com/things-to-do/events-calendar/event/19461
 -bob-fosses-dancin
END:VEVENT
END:VCALENDAR
