BEGIN:VCALENDAR
VERSION:2.0
PRODID:-//https://www.sandiegofamily.com///NONSGML kigkonsult.se iCalcreator 2.10.15//
METHOD:PUBLISH
BEGIN:VEVENT
UID:20260424T002209UTC-9040CmAmx9@https://www.sandiegofamily.com/
DTSTAMP:20260424T002209Z
DESCRIPTION: https://www.sandiegofamily.com/things-to-do/events-calendar/ev
 ent/18625-whale-dolphin-watching-cruises
DTSTART;VALUE=DATE:20220328
LOCATION:San Diego\, CA ()
SUMMARY:Whale & Dolphin Watching Cruises
URL:https://www.sandiegofamily.com/things-to-do/events-calendar/event/18625
 -whale-dolphin-watching-cruises
END:VEVENT
END:VCALENDAR
