BEGIN:VCALENDAR
VERSION:2.0
PRODID:-//https://www.sandiegofamily.com///NONSGML kigkonsult.se iCalcreator 2.10.15//
METHOD:PUBLISH
BEGIN:VEVENT
UID:20260424T012841UTC-0159E1tEO8@https://www.sandiegofamily.com/
DTSTAMP:20260424T012841Z
DESCRIPTION: https://www.sandiegofamily.com/things-to-do/events-calendar/ev
 ent/18566-roar-snore-safari
DTSTART;VALUE=DATE:20220318
LOCATION:San Diego Zoo Safari Park (15500 San Pasqual Valley Rd\, Escondido
 \, CA 92027\, USA)
SUMMARY:Roar & Snore Safari
URL:https://www.sandiegofamily.com/things-to-do/events-calendar/event/18566
 -roar-snore-safari
END:VEVENT
END:VCALENDAR
