BEGIN:VCALENDAR
VERSION:2.0
PRODID:-//https://www.sandiegofamily.com///NONSGML kigkonsult.se iCalcreator 2.10.15//
METHOD:PUBLISH
BEGIN:VEVENT
UID:20260423T190811UTC-1069vp8WVG@https://www.sandiegofamily.com/
DTSTAMP:20260423T190811Z
DESCRIPTION: https://www.sandiegofamily.com/things-to-do/events-calendar/ev
 ent/18236-sesame-place-san-diego
DTSTART;VALUE=DATE:20220411
LOCATION:Sesame Place San Diego (2052 Entertainment Cir\, Chula Vista\, CA 
 91911\, USA)
SUMMARY:Sesame Place San Diego
URL:https://www.sandiegofamily.com/things-to-do/events-calendar/event/18236
 -sesame-place-san-diego
END:VEVENT
END:VCALENDAR
