BEGIN:VCALENDAR
VERSION:2.0
PRODID:-//https://www.sandiegofamily.com///NONSGML kigkonsult.se iCalcreator 2.10.15//
METHOD:PUBLISH
BEGIN:VEVENT
UID:20260424T000607UTC-4827pIudu0@https://www.sandiegofamily.com/
DTSTAMP:20260424T000607Z
DESCRIPTION: https://www.sandiegofamily.com/things-to-do/events-calendar/ev
 ent/18015-san-diego-tet-festival
DTSTART;VALUE=DATE:20220204
LOCATION:Mira Mesa Community Park (8575 New Salem St\, San Diego\, CA 92126
 \, USA)
SUMMARY:San Diego Tết Festival
URL:https://www.sandiegofamily.com/things-to-do/events-calendar/event/18015
 -san-diego-tet-festival
END:VEVENT
END:VCALENDAR
