BEGIN:VCALENDAR
VERSION:2.0
PRODID:-//https://www.sandiegofamily.com///NONSGML kigkonsult.se iCalcreator 2.10.15//
METHOD:PUBLISH
BEGIN:VEVENT
UID:20260424T121900UTC-5732MoSPFx@https://www.sandiegofamily.com/
DTSTAMP:20260424T121900Z
DESCRIPTION: https://www.sandiegofamily.com/things-to-do/events-calendar/ev
 ent/17754-whale-dolphin-watching-cruises
DTSTART;VALUE=DATE:20220124
LOCATION:Downtown San Diego (1800 N Harbor Dr\, San Diego\, CA 92101\, USA)
SUMMARY:Whale & Dolphin Watching Cruises
URL:https://www.sandiegofamily.com/things-to-do/events-calendar/event/17754
 -whale-dolphin-watching-cruises
END:VEVENT
END:VCALENDAR
