BEGIN:VCALENDAR
VERSION:2.0
PRODID:-//https://www.sandiegofamily.com///NONSGML kigkonsult.se iCalcreator 2.10.15//
METHOD:PUBLISH
BEGIN:VEVENT
UID:20260423T185932UTC-0730HBzMTV@https://www.sandiegofamily.com/
DTSTAMP:20260423T185932Z
DESCRIPTION: https://www.sandiegofamily.com/things-to-do/events-calendar/ev
 ent/16964-holiday-market-at-petco-park
DTSTART;VALUE=DATE:20211208
LOCATION:Petco Park (100 Park Blvd\, San Diego\, CA 92101\, USA)
SUMMARY:Holiday Market at Petco Park
URL:https://www.sandiegofamily.com/things-to-do/events-calendar/event/16964
 -holiday-market-at-petco-park
END:VEVENT
END:VCALENDAR
