BEGIN:VCALENDAR
VERSION:2.0
PRODID:-//https://www.sandiegofamily.com///NONSGML kigkonsult.se iCalcreator 2.10.15//
METHOD:PUBLISH
BEGIN:VEVENT
UID:20260424T182158UTC-2275lAchNs@https://www.sandiegofamily.com/
DTSTAMP:20260424T182158Z
DESCRIPTION: https://www.sandiegofamily.com/things-to-do/events-calendar/ev
 ent/16062-once-upon-a-halloween
DTSTART:20211024T233000Z
DTEND:20211025T033000Z
LOCATION:Old Poway Park (14134 Midland Rd\, Poway\, CA 92064\, USA)
SUMMARY:Once Upon a Hallowe’en
URL:https://www.sandiegofamily.com/things-to-do/events-calendar/event/16062
 -once-upon-a-halloween
END:VEVENT
END:VCALENDAR
