BEGIN:VCALENDAR
VERSION:2.0
PRODID:-//https://www.sandiegofamily.com///NONSGML kigkonsult.se iCalcreator 2.10.15//
METHOD:PUBLISH
BEGIN:VEVENT
UID:20260421T163018UTC-8948Ocpl3U@https://www.sandiegofamily.com/
DTSTAMP:20260421T163018Z
DESCRIPTION: https://www.sandiegofamily.com/things-to-do/events-calendar/ev
 ent/1595-family-fun-fest-at-the-salvation-army-kroc-center
DTSTART:20180106T180000Z
DTEND:20180106T210000Z
LOCATION:The Salvation Army Kroc Center (6845 University Ave\, San Diego\, 
 CA 92115\, USA)
SUMMARY:Family Fun Fest at the Salvation Army Kroc Center
URL:https://www.sandiegofamily.com/things-to-do/events-calendar/event/1595-
 family-fun-fest-at-the-salvation-army-kroc-center
END:VEVENT
END:VCALENDAR
