BEGIN:VCALENDAR
VERSION:2.0
PRODID:-//https://www.sandiegofamily.com///NONSGML kigkonsult.se iCalcreator 2.10.15//
METHOD:PUBLISH
BEGIN:VEVENT
UID:20260421T014430UTC-4425V7NVgR@https://www.sandiegofamily.com/
DTSTAMP:20260421T014430Z
DESCRIPTION: https://www.sandiegofamily.com/things-to-do/events-calendar/ev
 ent/15798-u-pick-pumpkin-patch-at-the-farm-stand-west
DTSTART;VALUE=DATE:20211030
LOCATION:Escondido CA (341 S Kalmia St\, Escondido\, CA 92025\, USA)
SUMMARY:U-Pick Pumpkin Patch at The Farm Stand West
URL:https://www.sandiegofamily.com/things-to-do/events-calendar/event/15798
 -u-pick-pumpkin-patch-at-the-farm-stand-west
END:VEVENT
END:VCALENDAR
