BEGIN:VCALENDAR
VERSION:2.0
PRODID:-//https://www.sandiegofamily.com///NONSGML kigkonsult.se iCalcreator 2.10.15//
METHOD:PUBLISH
BEGIN:VEVENT
UID:20260420T125443UTC-8422WnVwH6@https://www.sandiegofamily.com/
DTSTAMP:20260420T125443Z
DESCRIPTION: https://www.sandiegofamily.com/things-to-do/events-calendar/ev
 ent/15295-seaworld-spooktacular
DTSTART;VALUE=DATE:20211023
LOCATION:SeaWorld San Diego (500 Sea World Dr\, San Diego\, CA 92109\, USA)
SUMMARY:SeaWorld Spooktacular
URL:https://www.sandiegofamily.com/things-to-do/events-calendar/event/15295
 -seaworld-spooktacular
END:VEVENT
END:VCALENDAR
