BEGIN:VCALENDAR
VERSION:2.0
PRODID:-//https://www.sandiegofamily.com///NONSGML kigkonsult.se iCalcreator 2.10.15//
METHOD:PUBLISH
BEGIN:VEVENT
UID:20260420T112156UTC-5455Wmoof2@https://www.sandiegofamily.com/
DTSTAMP:20260420T112156Z
DESCRIPTION: https://www.sandiegofamily.com/things-to-do/events-calendar/ev
 ent/15128-waves-of-honor
DTSTART;VALUE=DATE:20211215
LOCATION:SeaWorld San Diego (500 Sea World Dr\, San Diego\, CA 92109\, USA)
SUMMARY:Waves of Honor
URL:https://www.sandiegofamily.com/things-to-do/events-calendar/event/15128
 -waves-of-honor
END:VEVENT
END:VCALENDAR
