BEGIN:VCALENDAR
VERSION:2.0
PRODID:-//https://www.sandiegofamily.com///NONSGML kigkonsult.se iCalcreator 2.10.15//
METHOD:PUBLISH
BEGIN:VEVENT
UID:20260420T001408UTC-4412oxrJwi@https://www.sandiegofamily.com/
DTSTAMP:20260420T001408Z
DESCRIPTION: https://www.sandiegofamily.com/things-to-do/events-calendar/ev
 ent/15048-waves-of-honor
DTSTART;VALUE=DATE:20210926
LOCATION:SeaWorld San Diego (500 Sea World Dr\, San Diego\, CA 92109\, USA)
SUMMARY:Waves of Honor
URL:https://www.sandiegofamily.com/things-to-do/events-calendar/event/15048
 -waves-of-honor
END:VEVENT
END:VCALENDAR
