BEGIN:VCALENDAR
VERSION:2.0
PRODID:-//https://www.sandiegofamily.com///NONSGML kigkonsult.se iCalcreator 2.10.15//
METHOD:PUBLISH
BEGIN:VEVENT
UID:20260420T095219UTC-9378ubAvFn@https://www.sandiegofamily.com/
DTSTAMP:20260420T095219Z
DESCRIPTION: https://www.sandiegofamily.com/things-to-do/events-calendar/ev
 ent/14957-poway-americana-festival
DTSTART:20210822T160000Z
DTEND:20210822T230000Z
LOCATION:Poway\, CA (14134 Midland Rd\, Poway\, CA 92064\, USA)
SUMMARY:Poway Americana Festival
URL:https://www.sandiegofamily.com/things-to-do/events-calendar/event/14957
 -poway-americana-festival
END:VEVENT
END:VCALENDAR
