BEGIN:VCALENDAR
VERSION:2.0
PRODID:-//https://www.sandiegofamily.com///NONSGML kigkonsult.se iCalcreator 2.10.15//
METHOD:PUBLISH
BEGIN:VEVENT
UID:20260425T144705UTC-7293wPeNKf@https://www.sandiegofamily.com/
DTSTAMP:20260425T144705Z
DESCRIPTION: https://www.sandiegofamily.com/things-to-do/events-calendar/ev
 ent/14879-summer-movies-in-the-park
DTSTART;VALUE=DATE:20211024
LOCATION:San Diego\, CA ()
SUMMARY:Summer Movies in the Park
URL:https://www.sandiegofamily.com/things-to-do/events-calendar/event/14879
 -summer-movies-in-the-park
END:VEVENT
END:VCALENDAR
