BEGIN:VCALENDAR
VERSION:2.0
PRODID:-//https://www.sandiegofamily.com///NONSGML kigkonsult.se iCalcreator 2.10.15//
METHOD:PUBLISH
BEGIN:VEVENT
UID:20260423T202803UTC-06876Uou4a@https://www.sandiegofamily.com/
DTSTAMP:20260423T202803Z
DESCRIPTION: https://www.sandiegofamily.com/things-to-do/events-calendar/ev
 ent/14590-beauty-the-beast-the-musical
DTSTART;VALUE=DATE:20210729
LOCATION:Moonlight Beach (400 B St\, Encinitas\, CA 92024\, USA)
SUMMARY:“Beauty & the Beast: The Musical”
URL:https://www.sandiegofamily.com/things-to-do/events-calendar/event/14590
 -beauty-the-beast-the-musical
END:VEVENT
END:VCALENDAR
