BEGIN:VCALENDAR
VERSION:2.0
PRODID:-//https://www.sandiegofamily.com///NONSGML kigkonsult.se iCalcreator 2.10.15//
METHOD:PUBLISH
BEGIN:VEVENT
UID:20260423T234557UTC-4396ZHZud8@https://www.sandiegofamily.com/
DTSTAMP:20260423T234557Z
DESCRIPTION: https://www.sandiegofamily.com/things-to-do/events-calendar/ev
 ent/14529-san-diego-half-marathon-10k-5k
DTSTART;VALUE=DATE:20210718
LOCATION:Downtown San Diego (1800 N Harbor Dr\, San Diego\, CA 92101\, USA)
SUMMARY:San Diego Half Marathon\, 10K & 5K
URL:https://www.sandiegofamily.com/things-to-do/events-calendar/event/14529
 -san-diego-half-marathon-10k-5k
END:VEVENT
END:VCALENDAR
