BEGIN:VCALENDAR
VERSION:2.0
PRODID:-//https://www.sandiegofamily.com///NONSGML kigkonsult.se iCalcreator 2.10.15//
METHOD:PUBLISH
BEGIN:VEVENT
UID:20260419T164451UTC-7513muhzF5@https://www.sandiegofamily.com/
DTSTAMP:20260419T164451Z
DESCRIPTION: https://www.sandiegofamily.com/things-to-do/events-calendar/ev
 ent/14426-bowling-at-viejas
DTSTART;VALUE=DATE:20210728
LOCATION:Viejas Outlet Center (5005 Willows Rd\, Alpine\, CA 91901\, USA)
SUMMARY:Bowling at Viejas
URL:https://www.sandiegofamily.com/things-to-do/events-calendar/event/14426
 -bowling-at-viejas
END:VEVENT
END:VCALENDAR
