BEGIN:VCALENDAR
VERSION:2.0
PRODID:-//https://www.sandiegofamily.com///NONSGML kigkonsult.se iCalcreator 2.10.15//
METHOD:PUBLISH
BEGIN:VEVENT
UID:20260424T064702UTC-4136JmRpfn@https://www.sandiegofamily.com/
DTSTAMP:20260424T064702Z
DESCRIPTION: https://www.sandiegofamily.com/things-to-do/events-calendar/ev
 ent/13801-aquatica-san-diego
DTSTART;VALUE=DATE:20210614
LOCATION:Aquatica San Diego (2052 Entertainment Cir\, Chula Vista\, CA 9191
 1\, USA)
SUMMARY:Aquatica San Diego
URL:https://www.sandiegofamily.com/things-to-do/events-calendar/event/13801
 -aquatica-san-diego
END:VEVENT
END:VCALENDAR
