BEGIN:VCALENDAR
VERSION:2.0
PRODID:-//https://www.sandiegofamily.com///NONSGML kigkonsult.se iCalcreator 2.10.15//
METHOD:PUBLISH
BEGIN:VEVENT
UID:20260424T065509UTC-6280Ex7FuO@https://www.sandiegofamily.com/
DTSTAMP:20260424T065509Z
DESCRIPTION: https://www.sandiegofamily.com/things-to-do/events-calendar/ev
 ent/13744-cajon-classic-cruise-car-show
DTSTART;VALUE=DATE:20210623
LOCATION:Downtown El Cajon (201 E Main St\, El Cajon\, CA 92020\, USA)
SUMMARY:Cajon Classic Cruise Car Show
URL:https://www.sandiegofamily.com/things-to-do/events-calendar/event/13744
 -cajon-classic-cruise-car-show
END:VEVENT
END:VCALENDAR
