BEGIN:VCALENDAR
VERSION:2.0
PRODID:-//https://www.sandiegofamily.com///NONSGML kigkonsult.se iCalcreator 2.10.15//
METHOD:PUBLISH
BEGIN:VEVENT
UID:20260422T082459UTC-7670PGbA9x@https://www.sandiegofamily.com/
DTSTAMP:20260422T082459Z
DESCRIPTION: https://www.sandiegofamily.com/things-to-do/events-calendar/ev
 ent/13233-strawberry-picking
DTSTART;VALUE=DATE:20210507
LOCATION:Carlsbad Strawberry Fields (1050 Cannon Rd\, Carlsbad\, CA 92008\,
  USA)
SUMMARY:Strawberry Picking
URL:https://www.sandiegofamily.com/things-to-do/events-calendar/event/13233
 -strawberry-picking
END:VEVENT
END:VCALENDAR
