BEGIN:VCALENDAR
VERSION:2.0
PRODID:-//https://www.sandiegofamily.com///NONSGML kigkonsult.se iCalcreator 2.10.15//
METHOD:PUBLISH
BEGIN:VEVENT
UID:20260421T163837UTC-1546MI12xf@https://www.sandiegofamily.com/
DTSTAMP:20260421T163837Z
DESCRIPTION: https://www.sandiegofamily.com/things-to-do/events-calendar/ev
 ent/13164-south-bay-drive-in-theatres
DTSTART;VALUE=DATE:20210511
LOCATION:South Bay Drive-In Theatres (2170 Coronado Ave\, San Diego\, CA 92
 154\, USA)
SUMMARY:South Bay Drive-In Theatres
URL:https://www.sandiegofamily.com/things-to-do/events-calendar/event/13164
 -south-bay-drive-in-theatres
END:VEVENT
END:VCALENDAR
