BEGIN:VCALENDAR
VERSION:2.0
PRODID:-//https://www.sandiegofamily.com///NONSGML kigkonsult.se iCalcreator 2.10.15//
METHOD:PUBLISH
BEGIN:VEVENT
UID:20260423T214200UTC-4108K7fHmv@https://www.sandiegofamily.com/
DTSTAMP:20260423T214200Z
DESCRIPTION: https://www.sandiegofamily.com/things-to-do/events-calendar/ev
 ent/13066-seaworld-rides-reopen
DTSTART;VALUE=DATE:20210511
LOCATION:SeaWorld San Diego (500 Sea World Dr\, San Diego\, CA 92109\, USA)
SUMMARY:SeaWorld Rides Reopen
URL:https://www.sandiegofamily.com/things-to-do/events-calendar/event/13066
 -seaworld-rides-reopen
END:VEVENT
END:VCALENDAR
